BEGIN:VCALENDAR
VERSION:2.0
PRODID:-//The Legacy Center STL - ECPv6.11.2.1//NONSGML v1.0//EN
CALSCALE:GREGORIAN
METHOD:PUBLISH
X-WR-CALNAME:The Legacy Center STL
X-ORIGINAL-URL:https://legacystl.org
X-WR-CALDESC:Events for The Legacy Center STL
REFRESH-INTERVAL;VALUE=DURATION:PT1H
X-Robots-Tag:noindex
X-PUBLISHED-TTL:PT1H
BEGIN:VTIMEZONE
TZID:America/Chicago
BEGIN:DAYLIGHT
TZOFFSETFROM:-0600
TZOFFSETTO:-0500
TZNAME:CDT
DTSTART:20250309T080000
END:DAYLIGHT
BEGIN:STANDARD
TZOFFSETFROM:-0500
TZOFFSETTO:-0600
TZNAME:CST
DTSTART:20251102T070000
END:STANDARD
END:VTIMEZONE
BEGIN:VEVENT
DTSTART;TZID=America/Chicago:20250426T100000
DTEND;TZID=America/Chicago:20250426T110000
DTSTAMP:20260423T053747
CREATED:20250404T222744Z
LAST-MODIFIED:20250404T222744Z
UID:315-1745661600-1745665200@legacystl.org
SUMMARY:Claudine Urban Gardens with The Legacy Center STL present: Gardening Made Easy - Garden Care and Maintenance
DESCRIPTION:Join us for this FREE six-week Interactive Gardening Workshop Series every Saturday from 10am-11am at The Legacy Center STL\nWelcoming Spring and Our Gardeners!\nJoin us for “Gardening Made Easy\,” a FREE six-week interactive workshop series designed to help gardeners of all skill levels cultivate thriving gardens with ease! Held every Saturday from 10:00am to 11:00am at The Legacy Center STL\, located at 6850 Normandale Drive\, Saint Louis\, MO\, 63121. \nThis hands-on series will walk participants through essential gardening techniques\, from planning and setup to fertilizing and maintaining a lush and productive garden. The workshops are led by experts from Claudie’s Urban Gardens\, bringing their extensive experience in urban gardening to guide you through each step. Whether you’re a beginner or an experienced gardener looking to refine your skills\, this series offers practical guidance\, expert advice\, and community connection to help you grow with confidence. \nSchedule:\n• March 22– Effective Garden Planning\n• March 29 – Raised Bed Setup\n• April 5 – Weather Protection Setup\n• April 12 – Watering System Setup\n• April 19 – Fertilizing and Planting\n• April 26 – Garden Care and Maintenance \nCome ready to learn\, ask questions\, and get your hands dirty.\nBring friends and family members – let’s grow together.
URL:https://legacystl.org/event/claudine-urban-gardens-with-the-legacy-center-stl-present-gardening-made-easy-garden-care-and-maintenance/
LOCATION:The Legacy Center STL\, 6850 Normandale Drive\, Saint Louis\, MO\, 63121\, United States
CATEGORIES:Gardening
ORGANIZER;CN="The Legacy Center STL":MAILTO:contact@legacystl.org
END:VEVENT
BEGIN:VEVENT
DTSTART;TZID=America/Chicago:20250419T100000
DTEND;TZID=America/Chicago:20250419T110000
DTSTAMP:20260423T053747
CREATED:20250404T222414Z
LAST-MODIFIED:20250404T222414Z
UID:314-1745056800-1745060400@legacystl.org
SUMMARY:Claudine Urban Gardens with The Legacy Center STL present: Gardening Made Easy - Fertilizing and Planting
DESCRIPTION:Join us for this FREE six-week Interactive Gardening Workshop Series every Saturday from 10am-11am at The Legacy Center STL\nWelcoming Spring and Our Gardeners!\nJoin us for “Gardening Made Easy\,” a FREE six-week interactive workshop series designed to help gardeners of all skill levels cultivate thriving gardens with ease! Held every Saturday from 10:00am to 11:00am at The Legacy Center STL\, located at 6850 Normandale Drive\, Saint Louis\, MO\, 63121. \nThis hands-on series will walk participants through essential gardening techniques\, from planning and setup to fertilizing and maintaining a lush and productive garden. The workshops are led by experts from Claudie’s Urban Gardens\, bringing their extensive experience in urban gardening to guide you through each step. Whether you’re a beginner or an experienced gardener looking to refine your skills\, this series offers practical guidance\, expert advice\, and community connection to help you grow with confidence. \nSchedule:\n• March 22– Effective Garden Planning\n• March 29 – Raised Bed Setup\n• April 5 – Weather Protection Setup\n• April 12 – Watering System Setup\n• April 19 – Fertilizing and Planting\n• April 26 – Garden Care and Maintenance \nCome ready to learn\, ask questions\, and get your hands dirty.\nBring friends and family members – let’s grow together.
URL:https://legacystl.org/event/claudine-urban-gardens-with-the-legacy-center-stl-present-gardening-made-easy-fertilizing-and-planting/
LOCATION:The Legacy Center STL\, 6850 Normandale Drive\, Saint Louis\, MO\, 63121\, United States
CATEGORIES:Gardening
ORGANIZER;CN="The Legacy Center STL":MAILTO:contact@legacystl.org
END:VEVENT
BEGIN:VEVENT
DTSTART;TZID=America/Chicago:20250412T100000
DTEND;TZID=America/Chicago:20250412T110000
DTSTAMP:20260423T053747
CREATED:20250404T222123Z
LAST-MODIFIED:20250404T222454Z
UID:313-1744452000-1744455600@legacystl.org
SUMMARY:Claudine Urban Gardens with The Legacy Center STL present: Gardening Made Easy - Watering System Setup
DESCRIPTION:Join us for this FREE six-week Interactive Gardening Workshop Series every Saturday from 10am-11am at The Legacy Center STL\nWelcoming Spring and Our Gardeners!\nJoin us for “Gardening Made Easy\,” a FREE six-week interactive workshop series designed to help gardeners of all skill levels cultivate thriving gardens with ease! Held every Saturday from 10:00am to 11:00am at The Legacy Center STL\, located at 6850 Normandale Drive\, Saint Louis\, MO\, 63121. \nThis hands-on series will walk participants through essential gardening techniques\, from planning and setup to fertilizing and maintaining a lush and productive garden. The workshops are led by experts from Claudie’s Urban Gardens\, bringing their extensive experience in urban gardening to guide you through each step. Whether you’re a beginner or an experienced gardener looking to refine your skills\, this series offers practical guidance\, expert advice\, and community connection to help you grow with confidence. \nSchedule:\n• March 22– Effective Garden Planning\n• March 29 – Raised Bed Setup\n• April 5 – Weather Protection Setup\n• April 12 – Watering System Setup\n• April 19 – Fertilizing and Planting\n• April 26 – Garden Care and Maintenance \nCome ready to learn\, ask questions\, and get your hands dirty.\nBring friends and family members – let’s grow together.
URL:https://legacystl.org/event/claudine-urban-gardens-with-the-legacy-center-stl-present-gardening-made-easy-2/
LOCATION:MO
CATEGORIES:Gardening
ORGANIZER;CN="The Legacy Center STL":MAILTO:contact@legacystl.org
END:VEVENT
BEGIN:VEVENT
DTSTART;TZID=America/Chicago:20250405T100000
DTEND;TZID=America/Chicago:20250405T110000
DTSTAMP:20260423T053747
CREATED:20250404T200156Z
LAST-MODIFIED:20250404T221921Z
UID:305-1743847200-1743850800@legacystl.org
SUMMARY:Claudine Urban Gardens with The Legacy Center STL present: Gardening Made Easy
DESCRIPTION:Join us for this FREE six-week Interactive Gardening Workshop Series every Saturday from 10am-11am at The Legacy Center STL\nWelcoming Spring and Our Gardeners!\nJoin us for “Gardening Made Easy\,” a FREE six-week interactive workshop series designed to help gardeners of all skill levels cultivate thriving gardens with ease! Held every Saturday from 10:00am to 11:00am at The Legacy Center STL\, located at 6850 Normandale Drive\, Saint Louis\, MO\, 63121. \nThis hands-on series will walk participants through essential gardening techniques\, from planning and setup to fertilizing and maintaining a lush and productive garden. The workshops are led by experts from Claudie’s Urban Gardens\, bringing their extensive experience in urban gardening to guide you through each step. Whether you’re a beginner or an experienced gardener looking to refine your skills\, this series offers practical guidance\, expert advice\, and community connection to help you grow with confidence. \nSchedule:\n• March 22– Effective Garden Planning\n• March 29 – Raised Bed Setup\n• April 5 – Weather Protection Setup\n• April 12 – Watering System Setup\n• April 19 – Fertilizing and Planting\n• April 26 – Garden Care and Maintenance \nCome ready to learn\, ask questions\, and get your hands dirty.\nBring friends and family members – let’s grow together.
URL:https://legacystl.org/event/claudine-urban-gardens-with-the-legacy-center-stl-present-gardening-made-easy/
LOCATION:The Legacy Center STL\, 6850 Normandale Drive\, Saint Louis\, MO\, 63121\, United States
CATEGORIES:Gardening
ORGANIZER;CN="The Legacy Center STL":MAILTO:contact@legacystl.org
END:VEVENT
END:VCALENDAR